BEGIN:VCALENDAR
VERSION:2.0
PRODID:-//PETER WILSON MUSICIAN - ECPv6.15.20//NONSGML v1.0//EN
CALSCALE:GREGORIAN
METHOD:PUBLISH
X-ORIGINAL-URL:https://peterwilsonmusician.com
X-WR-CALDESC:Events for PETER WILSON MUSICIAN
REFRESH-INTERVAL;VALUE=DURATION:PT1H
X-Robots-Tag:noindex
X-PUBLISHED-TTL:PT1H
BEGIN:VTIMEZONE
TZID:America/New_York
BEGIN:DAYLIGHT
TZOFFSETFROM:-0500
TZOFFSETTO:-0400
TZNAME:EDT
DTSTART:20240310T070000
END:DAYLIGHT
BEGIN:STANDARD
TZOFFSETFROM:-0400
TZOFFSETTO:-0500
TZNAME:EST
DTSTART:20241103T060000
END:STANDARD
BEGIN:DAYLIGHT
TZOFFSETFROM:-0500
TZOFFSETTO:-0400
TZNAME:EDT
DTSTART:20250309T070000
END:DAYLIGHT
BEGIN:STANDARD
TZOFFSETFROM:-0400
TZOFFSETTO:-0500
TZNAME:EST
DTSTART:20251102T060000
END:STANDARD
BEGIN:DAYLIGHT
TZOFFSETFROM:-0500
TZOFFSETTO:-0400
TZNAME:EDT
DTSTART:20260308T070000
END:DAYLIGHT
BEGIN:STANDARD
TZOFFSETFROM:-0400
TZOFFSETTO:-0500
TZNAME:EST
DTSTART:20261101T060000
END:STANDARD
BEGIN:DAYLIGHT
TZOFFSETFROM:-0500
TZOFFSETTO:-0400
TZNAME:EDT
DTSTART:20270314T070000
END:DAYLIGHT
BEGIN:STANDARD
TZOFFSETFROM:-0400
TZOFFSETTO:-0500
TZNAME:EST
DTSTART:20271107T060000
END:STANDARD
END:VTIMEZONE
BEGIN:VEVENT
DTSTART;TZID=America/New_York:20260411T200000
DTEND;TZID=America/New_York:20260411T220000
DTSTAMP:20260424T193229
CREATED:20230420T182030Z
LAST-MODIFIED:20250910T173327Z
UID:2620-1775937600-1775944800@peterwilsonmusician.com
SUMMARY:AFPO – Celebrating America's 250 Years
DESCRIPTION:“Celebrating America’s 250 Years” — American Festival Pops Orchestra — Hylton Performing Arts Center\, Manassas\, VA
URL:https://peterwilsonmusician.com/event/afpo-salute-to-veterans/
LOCATION:Hylton Performing Arts Center\, 10960 George Mason Circle\, Manassas\, VA\, 20110\, United States
CATEGORIES:American Festival Pops Orchestra
ATTACH;FMTTYPE=image/jpeg:https://peterwilsonmusician.com/wp-content/uploads/2023/04/EVENT-header-AFPO2.jpg
END:VEVENT
BEGIN:VEVENT
DTSTART;TZID=America/New_York:20251213T160000
DTEND;TZID=America/New_York:20251213T180000
DTSTAMP:20260424T193229
CREATED:20230420T174603Z
LAST-MODIFIED:20250910T161011Z
UID:2601-1765641600-1765648800@peterwilsonmusician.com
SUMMARY:AFPO – Holiday Pops
DESCRIPTION:Join the American Festival Pops Orchestra\, with Peter Wilson music director\, for our annual Holiday Pops Concert at the GMU Center for the Arts in Fairfax\, Virginia.
URL:https://peterwilsonmusician.com/event/afpo-holiday-pops/
LOCATION:George Mason University Center for the Arts\, 4373 Mason Pond Drive\, Fairfax\, VA\, 22030\, United States
CATEGORIES:American Festival Pops Orchestra
ATTACH;FMTTYPE=image/jpeg:https://peterwilsonmusician.com/wp-content/uploads/2023/04/EVENT-header-AFPO2.jpg
END:VEVENT
BEGIN:VEVENT
DTSTART;TZID=America/New_York:20251212T200000
DTEND;TZID=America/New_York:20251212T220000
DTSTAMP:20260424T193229
CREATED:20230420T174421Z
LAST-MODIFIED:20250910T160901Z
UID:2599-1765569600-1765576800@peterwilsonmusician.com
SUMMARY:AFPO – Holiday Pops Concert
DESCRIPTION:Join the American Festival Pops Orchestra\, with Peter Wilson music director\, for our annual Holiday Pops Concert at the Hylton Performing Arts Center in Manassas\, Virginia.
URL:https://peterwilsonmusician.com/event/afpo-holiday-pops-concert/
LOCATION:Hylton Performing Arts Center\, 10960 George Mason Circle\, Manassas\, VA\, 20110\, United States
CATEGORIES:American Festival Pops Orchestra
ATTACH;FMTTYPE=image/jpeg:https://peterwilsonmusician.com/wp-content/uploads/2023/04/EVENT-header-AFPO2.jpg
END:VEVENT
END:VCALENDAR