BEGIN:VCALENDAR
VERSION:2.0
PRODID:-//PETER WILSON MUSICIAN - ECPv6.15.20//NONSGML v1.0//EN
CALSCALE:GREGORIAN
METHOD:PUBLISH
X-WR-CALNAME:PETER WILSON MUSICIAN
X-ORIGINAL-URL:https://peterwilsonmusician.com
X-WR-CALDESC:Events for PETER WILSON MUSICIAN
REFRESH-INTERVAL;VALUE=DURATION:PT1H
X-Robots-Tag:noindex
X-PUBLISHED-TTL:PT1H
BEGIN:VTIMEZONE
TZID:America/New_York
BEGIN:DAYLIGHT
TZOFFSETFROM:-0500
TZOFFSETTO:-0400
TZNAME:EDT
DTSTART:20240310T070000
END:DAYLIGHT
BEGIN:STANDARD
TZOFFSETFROM:-0400
TZOFFSETTO:-0500
TZNAME:EST
DTSTART:20241103T060000
END:STANDARD
BEGIN:DAYLIGHT
TZOFFSETFROM:-0500
TZOFFSETTO:-0400
TZNAME:EDT
DTSTART:20250309T070000
END:DAYLIGHT
BEGIN:STANDARD
TZOFFSETFROM:-0400
TZOFFSETTO:-0500
TZNAME:EST
DTSTART:20251102T060000
END:STANDARD
BEGIN:DAYLIGHT
TZOFFSETFROM:-0500
TZOFFSETTO:-0400
TZNAME:EDT
DTSTART:20260308T070000
END:DAYLIGHT
BEGIN:STANDARD
TZOFFSETFROM:-0400
TZOFFSETTO:-0500
TZNAME:EST
DTSTART:20261101T060000
END:STANDARD
END:VTIMEZONE
BEGIN:VEVENT
DTSTART;TZID=America/New_York:20251102T160000
DTEND;TZID=America/New_York:20251102T160000
DTSTAMP:20260424T202343
CREATED:20250908T203132Z
LAST-MODIFIED:20250908T203457Z
UID:2910-1762099200-1762099200@peterwilsonmusician.com
SUMMARY:Richmond Philharmonic Season Opener: "Heroes"
DESCRIPTION:Conductor Peter Wilson leads the Richmond Philharmonic Orchestra in its season opener concert\, Heroes. Come early at 3 p.m. for a pre-concert chat and stay for the 4 p.m. concert.
URL:https://peterwilsonmusician.com/event/richmond-philharmonic-season-opener-heroes/
LOCATION:St. Christopher’s School Arts Center\, 711 St Christopher's Rd\, Richmond\, VA\, 23226\, United States
CATEGORIES:Richmond Philharmonic
ATTACH;FMTTYPE=image/jpeg:https://peterwilsonmusician.com/wp-content/uploads/2023/04/EVENT-header-RPO-02.jpg
ORGANIZER;CN="Richmond Philharmonic Orchestra":MAILTO:richmondphilharmonic@gmail.com
END:VEVENT
END:VCALENDAR