BEGIN:VCALENDAR
VERSION:2.0
PRODID:-//PETER WILSON MUSICIAN - ECPv6.15.20//NONSGML v1.0//EN
CALSCALE:GREGORIAN
METHOD:PUBLISH
X-WR-CALNAME:PETER WILSON MUSICIAN
X-ORIGINAL-URL:https://peterwilsonmusician.com
X-WR-CALDESC:Events for PETER WILSON MUSICIAN
REFRESH-INTERVAL;VALUE=DURATION:PT1H
X-Robots-Tag:noindex
X-PUBLISHED-TTL:PT1H
BEGIN:VTIMEZONE
TZID:America/New_York
BEGIN:DAYLIGHT
TZOFFSETFROM:-0500
TZOFFSETTO:-0400
TZNAME:EDT
DTSTART:20250309T070000
END:DAYLIGHT
BEGIN:STANDARD
TZOFFSETFROM:-0400
TZOFFSETTO:-0500
TZNAME:EST
DTSTART:20251102T060000
END:STANDARD
BEGIN:DAYLIGHT
TZOFFSETFROM:-0500
TZOFFSETTO:-0400
TZNAME:EDT
DTSTART:20260308T070000
END:DAYLIGHT
BEGIN:STANDARD
TZOFFSETFROM:-0400
TZOFFSETTO:-0500
TZNAME:EST
DTSTART:20261101T060000
END:STANDARD
BEGIN:DAYLIGHT
TZOFFSETFROM:-0500
TZOFFSETTO:-0400
TZNAME:EDT
DTSTART:20270314T070000
END:DAYLIGHT
BEGIN:STANDARD
TZOFFSETFROM:-0400
TZOFFSETTO:-0500
TZNAME:EST
DTSTART:20271107T060000
END:STANDARD
END:VTIMEZONE
BEGIN:VEVENT
DTSTART;TZID=America/New_York:20260503T160000
DTEND;TZID=America/New_York:20260503T180000
DTSTAMP:20260424T115242
CREATED:20230420T180751Z
LAST-MODIFIED:20250910T175545Z
UID:2613-1777824000-1777831200@peterwilsonmusician.com
SUMMARY:Richmond Philharmonic - Celebrating America: 250 Years of Independence and Freedom
DESCRIPTION:Peter Wilson conducts the Richmond Philharmonic in a concert celebrating America’s 250th birthday — St. Christopher’s School\, Richmond\, VA. Come at 3 p.m. for the pre-concert chat and stay for the 4 p.m. concert. \nCOPLAND: Fanfare for the Common Man\nNOWLIN: Let Freedom Ring\nUNGAR: Ashokan Farewell\nGERSHWIN: Rhapsody in Blue\, Russell Wilson\, piano\nDVOŘÁK: Symphony No. 9 in E minor “From the New World\,” Op. 95
URL:https://peterwilsonmusician.com/event/richmond-philharmonic-celebrating-america/
LOCATION:St. Christopher’s School Arts Center\, 711 St Christopher's Rd\, Richmond\, VA\, 23226\, United States
CATEGORIES:Richmond Philharmonic
ATTACH;FMTTYPE=image/jpeg:https://peterwilsonmusician.com/wp-content/uploads/2023/04/EVENT-header-RPO-02.jpg
ORGANIZER;CN="Richmond Philharmonic Orchestra":MAILTO:richmondphilharmonic@gmail.com
END:VEVENT
BEGIN:VEVENT
DTSTART;TZID=America/New_York:20260621T160000
DTEND;TZID=America/New_York:20260621T180000
DTSTAMP:20260424T115242
CREATED:20250910T180224Z
LAST-MODIFIED:20250910T180622Z
UID:2961-1782057600-1782064800@peterwilsonmusician.com
SUMMARY:Richmond Philharmonic – SUMMER POPS
DESCRIPTION:Join the Richmond Philharmonic and conductor Peter Wilson for SUMMER POPS: A Salute to America Armed Forces. This concert will be held at the Virginia War Memorial in Richmond\, Virginia.
URL:https://peterwilsonmusician.com/event/richmond-philharmonic-summer-pops/
LOCATION:Virginia War Memorial\, 621 S Belvidere St\, Richmond\, VA\, 23220\, United States
CATEGORIES:Richmond Philharmonic
ATTACH;FMTTYPE=image/jpeg:https://peterwilsonmusician.com/wp-content/uploads/2023/04/EVENT-header-RPO-02.jpg
ORGANIZER;CN="Richmond Philharmonic Orchestra":MAILTO:richmondphilharmonic@gmail.com
END:VEVENT
END:VCALENDAR