BEGIN:VCALENDAR
VERSION:2.0
PRODID:-//PETER WILSON MUSICIAN - ECPv6.15.20//NONSGML v1.0//EN
CALSCALE:GREGORIAN
METHOD:PUBLISH
X-WR-CALNAME:PETER WILSON MUSICIAN
X-ORIGINAL-URL:https://peterwilsonmusician.com
X-WR-CALDESC:Events for PETER WILSON MUSICIAN
REFRESH-INTERVAL;VALUE=DURATION:PT1H
X-Robots-Tag:noindex
X-PUBLISHED-TTL:PT1H
BEGIN:VTIMEZONE
TZID:America/New_York
BEGIN:DAYLIGHT
TZOFFSETFROM:-0500
TZOFFSETTO:-0400
TZNAME:EDT
DTSTART:20250309T070000
END:DAYLIGHT
BEGIN:STANDARD
TZOFFSETFROM:-0400
TZOFFSETTO:-0500
TZNAME:EST
DTSTART:20251102T060000
END:STANDARD
BEGIN:DAYLIGHT
TZOFFSETFROM:-0500
TZOFFSETTO:-0400
TZNAME:EDT
DTSTART:20260308T070000
END:DAYLIGHT
BEGIN:STANDARD
TZOFFSETFROM:-0400
TZOFFSETTO:-0500
TZNAME:EST
DTSTART:20261101T060000
END:STANDARD
BEGIN:DAYLIGHT
TZOFFSETFROM:-0500
TZOFFSETTO:-0400
TZNAME:EDT
DTSTART:20270314T070000
END:DAYLIGHT
BEGIN:STANDARD
TZOFFSETFROM:-0400
TZOFFSETTO:-0500
TZNAME:EST
DTSTART:20271107T060000
END:STANDARD
END:VTIMEZONE
BEGIN:VEVENT
DTSTART;TZID=America/New_York:20260221T193000
DTEND;TZID=America/New_York:20260221T213000
DTSTAMP:20260424T220925
CREATED:20230420T180140Z
LAST-MODIFIED:20250910T163601Z
UID:2609-1771702200-1771709400@peterwilsonmusician.com
SUMMARY:Waynesboro Symphony – Romeo & Juliet: A Symphonic Evolution
DESCRIPTION:Join the Waynesboro Symphony on Saturday\, February 21\, 2026 as we usher in the 2026 Winter Season with a STAUNTON concert featuring the an evolution of symphonic interpretations of the iconic love story Romeo and Juliet. PROGRAM INCLUDES works by GOUNOD\,PROKOFIEV\, TCHAIKOVSKY and BERNSTEIN.
URL:https://peterwilsonmusician.com/event/waynesboro-symphony-romeo-and-juliet/
LOCATION:First Presbyterian Church Staunton\, 100 E Frederick St\, Staunton\, VA\, 24401\, United States
CATEGORIES:Waynesboro Symphony Orchestra
ATTACH;FMTTYPE=image/jpeg:https://peterwilsonmusician.com/wp-content/uploads/2023/04/EVENT-header-WSO-02.jpg
ORGANIZER;CN="Waynesboro Symphony Orchestra":MAILTO:wsomusicva@gmail.com
END:VEVENT
END:VCALENDAR