BEGIN:VCALENDAR
VERSION:2.0
PRODID:-//PETER WILSON MUSICIAN - ECPv6.15.20//NONSGML v1.0//EN
CALSCALE:GREGORIAN
METHOD:PUBLISH
X-ORIGINAL-URL:https://peterwilsonmusician.com
X-WR-CALDESC:Events for PETER WILSON MUSICIAN
REFRESH-INTERVAL;VALUE=DURATION:PT1H
X-Robots-Tag:noindex
X-PUBLISHED-TTL:PT1H
BEGIN:VTIMEZONE
TZID:America/New_York
BEGIN:DAYLIGHT
TZOFFSETFROM:-0500
TZOFFSETTO:-0400
TZNAME:EDT
DTSTART:20240310T070000
END:DAYLIGHT
BEGIN:STANDARD
TZOFFSETFROM:-0400
TZOFFSETTO:-0500
TZNAME:EST
DTSTART:20241103T060000
END:STANDARD
BEGIN:DAYLIGHT
TZOFFSETFROM:-0500
TZOFFSETTO:-0400
TZNAME:EDT
DTSTART:20250309T070000
END:DAYLIGHT
BEGIN:STANDARD
TZOFFSETFROM:-0400
TZOFFSETTO:-0500
TZNAME:EST
DTSTART:20251102T060000
END:STANDARD
BEGIN:DAYLIGHT
TZOFFSETFROM:-0500
TZOFFSETTO:-0400
TZNAME:EDT
DTSTART:20260308T070000
END:DAYLIGHT
BEGIN:STANDARD
TZOFFSETFROM:-0400
TZOFFSETTO:-0500
TZNAME:EST
DTSTART:20261101T060000
END:STANDARD
END:VTIMEZONE
BEGIN:VEVENT
DTSTART;TZID=America/New_York:20251207T180000
DTEND;TZID=America/New_York:20251207T200000
DTSTAMP:20260424T210905
CREATED:20240824T012714Z
LAST-MODIFIED:20250910T161701Z
UID:2828-1765130400-1765137600@peterwilsonmusician.com
SUMMARY:Richmond Philharmonic - Holiday Pops Concert
DESCRIPTION:“Holiday Pops Concert” — Richmond Philharmonic Orchestra\, Peter Wilson\, music director and violin soloist\, performs a concert of holiday pops favorites at the Virginia Museum of History and Culture\, beginning at 6 p.m.
URL:https://peterwilsonmusician.com/event/richmond-philharmonic-holiday-pops-concert/
LOCATION:Virginia Museum of History and Culture\, 428 N Arthur Ashe Boulevard\, Richmond\, VA\, 23220\, United States
CATEGORIES:Richmond Philharmonic
ATTACH;FMTTYPE=image/jpeg:https://peterwilsonmusician.com/wp-content/uploads/2023/04/EVENT-header-RPO-02.jpg
ORGANIZER;CN="Richmond Philharmonic Orchestra":MAILTO:richmondphilharmonic@gmail.com
END:VEVENT
END:VCALENDAR